BEGIN:VCALENDAR
VERSION:2.0
PRODID:-//wp-events-plugin.com//6.1.4//EN
TZID:Europe/Amsterdam
X-WR-TIMEZONE:Europe/Amsterdam
BEGIN:VEVENT
UID:80653@stoc.nl
DTSTART;TZID=Europe/Amsterdam:20260609T090000
DTEND;TZID=Europe/Amsterdam:20260609T120000
DTSTAMP:20260417T063632Z
URL:https://www.stoc.nl/events/bacteriologie-virologie-en-parasitologie-vk
 -2/
SUMMARY:Bacteriologie\, virologie en parasitologie (VK)
DESCRIPTION:
END:VEVENT
BEGIN:VTIMEZONE
TZID:Europe/Amsterdam
X-LIC-LOCATION:Europe/Amsterdam
BEGIN:DAYLIGHT
DTSTART:20260329T030000
TZOFFSETFROM:+0100
TZOFFSETTO:+0200
TZNAME:CEST
END:DAYLIGHT
END:VTIMEZONE
END:VCALENDAR